BEGIN:VCALENDAR
VERSION:2.0
PRODID:icalendar-ruby
CALSCALE:GREGORIAN
METHOD:PUBLISH
BEGIN:VEVENT
DTSTAMP:20260420T031114Z
UID:47-564588@stonescreekchurch.org
DTSTART:20260421T230000Z
DTEND:20260422T000000Z
CLASS:PUBLIC
CREATED:20260419T180412
DESCRIPTION:
LAST-MODIFIED:20260419T180412
LOCATION:
SUMMARY:WH&FMS and Men's Fellowship Meeting
URL;VALUE=URI:https://stonescreekchurch.org/events/wh-fms-and-mens-fellowsh
 ip-meeting/2026-04-21
ATTACH;FILENAME=bible_crosses-27.jpg;FMTTYPE=image/jpeg:https://dq5pwpg1q8r
 u0.cloudfront.net/2025/09/15/01/52/20/3b8bc2b5-b508-46f8-a94c-2a8e93f290fc
 /bible_crosses-27.jpg
END:VEVENT
END:VCALENDAR
