BEGIN:VCALENDAR
VERSION:2.0
PRODID:icalendar-ruby
CALSCALE:GREGORIAN
METHOD:PUBLISH
BEGIN:VEVENT
DTSTAMP:20260425T115217Z
UID:62-564513@stonescreekchurch.org
DTSTART:20260428T144500Z
DTEND:20260428T170000Z
CLASS:PUBLIC
CREATED:20260419T175657
DESCRIPTION:The next Senior Outing will be April 28th. We will have lunch a
 t Annabella's near Spivey's Corner at 11:30 followed by a trip to Tart's S
 trawberry and Produce in Dunn. We will leave the church at 10:45. If you c
 an attend\, please let Gloria Denning or Phyllis Barefoot know by Wendesda
 y\, April 22. 
LAST-MODIFIED:20260419T175657
LOCATION:
SUMMARY:Senior Citizens Outing
URL;VALUE=URI:https://stonescreekchurch.org/events/senior-citizens-outing--
 62/2026-04-28
ATTACH;FILENAME=mehan-talukder-CuTNGnapPEk-unsplash.jpg;FMTTYPE=image/jpeg:
 https://dq5pwpg1q8ru0.cloudfront.net/2026/04/19/21/56/57/68efd2e0-b043-467
 9-a5e9-17273b9f37ca/mehan-talukder-CuTNGnapPEk-unsplash.jpg
END:VEVENT
END:VCALENDAR
