BEGIN:VCALENDAR
VERSION:2.0
PRODID:icalendar-ruby
CALSCALE:GREGORIAN
METHOD:PUBLISH
BEGIN:VEVENT
DTSTAMP:20260422T075732Z
UID:24-563576@stonescreekchurch.org
DTSTART:20260426T220000Z
DTEND:20260426T230000Z
CLASS:PUBLIC
CREATED:20260419T104834
DESCRIPTION:Committee Reports are in the foyer. \nThe Business Meeting wil
 l take place oin the sanctuary at 6 pm on April 26. 
LAST-MODIFIED:20260419T104834
LOCATION:Sanctuary
SUMMARY:Quarterly Business Meeting
URL;VALUE=URI:https://stonescreekchurch.org/events/quarterly-business-meeti
 ng/2026-04-26
ATTACH;FILENAME=sundayservice-35.jpg;FMTTYPE=image/jpeg:https://dq5pwpg1q8r
 u0.cloudfront.net/2024/10/07/12/35/50/f12ba512-0131-4cbc-8acb-f75ee4f4ddea
 /sundayservice-35.jpg
END:VEVENT
END:VCALENDAR
