BEGIN:VCALENDAR
VERSION:2.0
PRODID:icalendar-ruby
CALSCALE:GREGORIAN
METHOD:PUBLISH
BEGIN:VEVENT
DTSTAMP:20260422T151622Z
UID:34-572167@stonescreekchurch.org
DTSTART:20261015T000000Z
DTEND:20261015T010000Z
CLASS:PUBLIC
CREATED:20260422T110737
DESCRIPTION:
LAST-MODIFIED:20260422T110737
LOCATION:Sanctuary
SUMMARY:Choir Practice
URL;VALUE=URI:https://stonescreekchurch.org/events/choir-practice/2026-10-1
 4
ATTACH;FILENAME=Screenshot-2025-05-25-at-9.32.11%E2%80%AFAM.png;FMTTYPE=ima
 ge/png:https://dq5pwpg1q8ru0.cloudfront.net/2025/05/25/13/35/17/2bfb439a-9
 fee-4d2c-8815-0b8d49507ffe/Screenshot-2025-05-25-at-9.32.11%25E2%2580%25AF
 AM.png
END:VEVENT
END:VCALENDAR
